BEGIN:VCALENDAR
PRODID:-//eluceo/ical//2.0/EN
VERSION:2.0
CALSCALE:GREGORIAN
BEGIN:VEVENT
UID:82e6e11380952ecea08e22f5734ccfad
DTSTAMP:20260424T195243Z
SUMMARY:Opération "Mon sang pour les Autres " en collaboration avec la Cro
 ix Rouge
DESCRIPTION:Sprekers: Lien pour s'inscrire sur le site de la Croix Rouge :
  https://www.donneurdesang.be/fr/rdv?code=AXRCA
URL:https://liege-cite-ardente.rotary2160.org/nl/agenda/show/71546
DTSTART;TZID=Europe/Zurich:20250916T150000
DTEND;TZID=Europe/Zurich:20250916T200000
LOCATION:Union Nautique de Liège\, Parc de la Boverie 3\, 4020 LIEGE\, Bel
 gique
CATEGORIES:Rotary
END:VEVENT
BEGIN:VTIMEZONE
TZID:Europe/Zurich
BEGIN:DAYLIGHT
DTSTART:20250916T150000
TZNAME:CEST
TZOFFSETTO:+0200
TZOFFSETFROM:+0200
END:DAYLIGHT
END:VTIMEZONE
END:VCALENDAR
